BEGIN:VCALENDAR
VERSION:2.0
PRODID:-//Kindergarten Dettenschwang - ECPv6.15.20//NONSGML v1.0//EN
CALSCALE:GREGORIAN
METHOD:PUBLISH
X-WR-CALNAME:Kindergarten Dettenschwang
X-ORIGINAL-URL:https://www.kindergarten-dettenschwang.de
X-WR-CALDESC:Veranstaltungen für Kindergarten Dettenschwang
REFRESH-INTERVAL;VALUE=DURATION:PT1H
X-Robots-Tag:noindex
X-PUBLISHED-TTL:PT1H
BEGIN:VTIMEZONE
TZID:Europe/Berlin
BEGIN:DAYLIGHT
TZOFFSETFROM:+0100
TZOFFSETTO:+0200
TZNAME:CEST
DTSTART:20240331T010000
END:DAYLIGHT
BEGIN:STANDARD
TZOFFSETFROM:+0200
TZOFFSETTO:+0100
TZNAME:CET
DTSTART:20241027T010000
END:STANDARD
BEGIN:DAYLIGHT
TZOFFSETFROM:+0100
TZOFFSETTO:+0200
TZNAME:CEST
DTSTART:20250330T010000
END:DAYLIGHT
BEGIN:STANDARD
TZOFFSETFROM:+0200
TZOFFSETTO:+0100
TZNAME:CET
DTSTART:20251026T010000
END:STANDARD
BEGIN:DAYLIGHT
TZOFFSETFROM:+0100
TZOFFSETTO:+0200
TZNAME:CEST
DTSTART:20260329T010000
END:DAYLIGHT
BEGIN:STANDARD
TZOFFSETFROM:+0200
TZOFFSETTO:+0100
TZNAME:CET
DTSTART:20261025T010000
END:STANDARD
END:VTIMEZONE
BEGIN:VEVENT
DTSTART;VALUE=DATE:20251103
DTEND;VALUE=DATE:20251108
DTSTAMP:20260421T131359
CREATED:20240927T225234Z
LAST-MODIFIED:20251009T173914Z
UID:10000293-1762128000-1762559999@www.kindergarten-dettenschwang.de
SUMMARY:Herbstferien mit Betreuung
DESCRIPTION:Während der Herbstferien vom 03.11.2025 – 07.11.2025 bieten wir einen Betreuungsdienst an. \nZur Planung des Personaleinsatzes bitten wir Sie\, sich verbindlich in die Liste im Eingangsbereich einzutragen\, falls Ihr Kind die Ferienwoche in Anspruch nehmen wird! \n 
URL:https://www.kindergarten-dettenschwang.de/event/herbstferien-mit-betreuung-2/
LOCATION:Kindergarten Dettenschwang
CATEGORIES:Ferienbetreuung mit Anmeldung
ATTACH;FMTTYPE=image/jpeg:https://www.kindergarten-dettenschwang.de/kg/wp-content/uploads/o_herbst_640_194.jpg
END:VEVENT
BEGIN:VEVENT
DTSTART;VALUE=DATE:20251106
DTEND;VALUE=DATE:20251107
DTSTAMP:20260421T131359
CREATED:20251106T145828Z
LAST-MODIFIED:20251106T145828Z
UID:10000366-1762387200-1762473599@www.kindergarten-dettenschwang.de
SUMMARY:Eltern - Kind - Backen für St. Martin
DESCRIPTION:Heute findet ein Eltern – Kind – Backen statt \, zu St. Martin backen wir gemeinsam Gänse.
URL:https://www.kindergarten-dettenschwang.de/event/eltern-kind-backen-fuer-st-martin/
LOCATION:Kindergarten Dettenschwang
CATEGORIES:Veranstaltungen und sonstige Aktivitäten
END:VEVENT
BEGIN:VEVENT
DTSTART;VALUE=DATE:20251110
DTEND;VALUE=DATE:20251111
DTSTAMP:20260421T131359
CREATED:20250911T091202Z
LAST-MODIFIED:20250911T091812Z
UID:10000362-1762732800-1762819199@www.kindergarten-dettenschwang.de
SUMMARY:St. Martin
DESCRIPTION:Am Montag\, den 10.11.2025 findet unser St. Martinsfest statt.\n  \n  \nContent credentials: Bild erstellt mit DallE-3\, 5. November 2024\, um 15:35
URL:https://www.kindergarten-dettenschwang.de/event/st-martin/
LOCATION:Kindergarten Dettenschwang
CATEGORIES:Veranstaltungen und sonstige Aktivitäten
ATTACH;FMTTYPE=image/jpeg:https://www.kindergarten-dettenschwang.de/kg/wp-content/uploads/w_Kal_Sankt_Martin.jpg
END:VEVENT
BEGIN:VEVENT
DTSTART;TZID=Europe/Berlin:20251124T150000
DTEND;TZID=Europe/Berlin:20251124T180000
DTSTAMP:20260421T131359
CREATED:20250911T191004Z
LAST-MODIFIED:20250915T123810Z
UID:10000338-1763996400-1764007200@www.kindergarten-dettenschwang.de
SUMMARY:Teamcoaching (Schließung um 15 Uhr)
DESCRIPTION:An diesem Tag findet ein internes Teamcoaching statt. \nBitte beachten: Der Kindergarten schließt deshalb bereits ab 15:00 Uhr!
URL:https://www.kindergarten-dettenschwang.de/event/teamcoaching-mit-frau-rommel-schliessung-um-15-uhr-2/2025-11-24/
LOCATION:Kindergarten Dettenschwang
CATEGORIES:Interne Veranstaltung
ATTACH;FMTTYPE=image/jpeg:https://www.kindergarten-dettenschwang.de/kg/wp-content/uploads/w_kal_Teamcoaching.jpg
END:VEVENT
END:VCALENDAR