BEGIN:VCALENDAR
VERSION:2.0
PRODID:-//Kindergarten Dettenschwang - ECPv6.15.20//NONSGML v1.0//EN
CALSCALE:GREGORIAN
METHOD:PUBLISH
X-ORIGINAL-URL:https://www.kindergarten-dettenschwang.de
X-WR-CALDESC:Veranstaltungen für Kindergarten Dettenschwang
REFRESH-INTERVAL;VALUE=DURATION:PT1H
X-Robots-Tag:noindex
X-PUBLISHED-TTL:PT1H
BEGIN:VTIMEZONE
TZID:Europe/Berlin
BEGIN:DAYLIGHT
TZOFFSETFROM:+0100
TZOFFSETTO:+0200
TZNAME:CEST
DTSTART:20240331T010000
END:DAYLIGHT
BEGIN:STANDARD
TZOFFSETFROM:+0200
TZOFFSETTO:+0100
TZNAME:CET
DTSTART:20241027T010000
END:STANDARD
BEGIN:DAYLIGHT
TZOFFSETFROM:+0100
TZOFFSETTO:+0200
TZNAME:CEST
DTSTART:20250330T010000
END:DAYLIGHT
BEGIN:STANDARD
TZOFFSETFROM:+0200
TZOFFSETTO:+0100
TZNAME:CET
DTSTART:20251026T010000
END:STANDARD
BEGIN:DAYLIGHT
TZOFFSETFROM:+0100
TZOFFSETTO:+0200
TZNAME:CEST
DTSTART:20260329T010000
END:DAYLIGHT
BEGIN:STANDARD
TZOFFSETFROM:+0200
TZOFFSETTO:+0100
TZNAME:CET
DTSTART:20261025T010000
END:STANDARD
END:VTIMEZONE
BEGIN:VEVENT
DTSTART;VALUE=DATE:20250815
DTEND;VALUE=DATE:20250909
DTSTAMP:20260421T155855
CREATED:20240927T225014Z
LAST-MODIFIED:20250726T175014Z
UID:10000292-1755216000-1757375999@www.kindergarten-dettenschwang.de
SUMMARY:Sommerferien (Einrichtung geschlossen)
DESCRIPTION:Während der Sommerferien vom 15.08.2025 – bis inkl. 08.09.2025 ist der Kindergarten geschlossen. \n(Montag\, den 08.09.2025 ist Planungstag im Team) \n  \n  \n  \n  \n  \nMit KI erstellt· July 26\, 2025 at 7:08 PM
URL:https://www.kindergarten-dettenschwang.de/event/sommerferien-kindergarten-geschlossen/
LOCATION:Kindergarten Dettenschwang
CATEGORIES:Geschlossen
ATTACH;FMTTYPE=image/jpeg:https://www.kindergarten-dettenschwang.de/kg/wp-content/uploads/w_kal_sommerferien-geschlossen.jpg
END:VEVENT
BEGIN:VEVENT
DTSTART;VALUE=DATE:20250909
DTEND;VALUE=DATE:20250910
DTSTAMP:20260421T155855
CREATED:20240927T230017Z
LAST-MODIFIED:20240927T230017Z
UID:10000296-1757376000-1757462399@www.kindergarten-dettenschwang.de
SUMMARY:Beginn neues Kindergartenjahr
DESCRIPTION:Das neue Kindergartenjahr beginnt für die „neuen Kinder“ mit dem 09.09.2025.
URL:https://www.kindergarten-dettenschwang.de/event/beginn-neues-kindergartenjahr/
LOCATION:Kindergarten Dettenschwang
CATEGORIES:Veranstaltungen und sonstige Aktivitäten
END:VEVENT
BEGIN:VEVENT
DTSTART;VALUE=DATE:20250924
DTEND;VALUE=DATE:20250925
DTSTAMP:20260421T155855
CREATED:20250911T090956Z
LAST-MODIFIED:20250911T190746Z
UID:10000361-1758672000-1758758399@www.kindergarten-dettenschwang.de
SUMMARY:Elternabend der Gruppen mit Elternbeiratswahl
DESCRIPTION:Am Mittwoch\, den 24.09.2025 finden die Gruppenelternabende mit Elternbeiratswahl statt.
URL:https://www.kindergarten-dettenschwang.de/event/elternabend-der-gruppen-mit-elternbeiratswahl/
LOCATION:Kindergarten Dettenschwang
CATEGORIES:Veranstaltungen und sonstige Aktivitäten
ATTACH;FMTTYPE=image/jpeg:https://www.kindergarten-dettenschwang.de/kg/wp-content/uploads/w_kal_Elternabend.jpg
END:VEVENT
BEGIN:VEVENT
DTSTART;VALUE=DATE:20250929
DTEND;VALUE=DATE:20251003
DTSTAMP:20260421T155855
CREATED:20250911T090519Z
LAST-MODIFIED:20250911T092154Z
UID:10000360-1759104000-1759449599@www.kindergarten-dettenschwang.de
SUMMARY:Waldwoche
DESCRIPTION:In der Woche vom 29.09.2025 – 02.10.2025 beginnen wir mit einer Waldwoche.\n  \n  \n  \n  \nContent credentials: Bild erstellt mit DallE-3\, 2024
URL:https://www.kindergarten-dettenschwang.de/event/waldwoche/
LOCATION:Kindergarten Dettenschwang
CATEGORIES:Veranstaltungen und sonstige Aktivitäten
ATTACH;FMTTYPE=image/jpeg:https://www.kindergarten-dettenschwang.de/kg/wp-content/uploads/w_Waldwoche.jpg
END:VEVENT
END:VCALENDAR