BEGIN:VCALENDAR
VERSION:2.0
PRODID:-//Kindergarten Dettenschwang - ECPv6.15.20//NONSGML v1.0//EN
CALSCALE:GREGORIAN
METHOD:PUBLISH
X-ORIGINAL-URL:https://www.kindergarten-dettenschwang.de
X-WR-CALDESC:Veranstaltungen für Kindergarten Dettenschwang
REFRESH-INTERVAL;VALUE=DURATION:PT1H
X-Robots-Tag:noindex
X-PUBLISHED-TTL:PT1H
BEGIN:VTIMEZONE
TZID:Europe/Berlin
BEGIN:DAYLIGHT
TZOFFSETFROM:+0100
TZOFFSETTO:+0200
TZNAME:CEST
DTSTART:20240331T010000
END:DAYLIGHT
BEGIN:STANDARD
TZOFFSETFROM:+0200
TZOFFSETTO:+0100
TZNAME:CET
DTSTART:20241027T010000
END:STANDARD
BEGIN:DAYLIGHT
TZOFFSETFROM:+0100
TZOFFSETTO:+0200
TZNAME:CEST
DTSTART:20250330T010000
END:DAYLIGHT
BEGIN:STANDARD
TZOFFSETFROM:+0200
TZOFFSETTO:+0100
TZNAME:CET
DTSTART:20251026T010000
END:STANDARD
BEGIN:DAYLIGHT
TZOFFSETFROM:+0100
TZOFFSETTO:+0200
TZNAME:CEST
DTSTART:20260329T010000
END:DAYLIGHT
BEGIN:STANDARD
TZOFFSETFROM:+0200
TZOFFSETTO:+0100
TZNAME:CET
DTSTART:20261025T010000
END:STANDARD
END:VTIMEZONE
BEGIN:VEVENT
DTSTART;VALUE=DATE:20250602
DTEND;VALUE=DATE:20250603
DTSTAMP:20260421T202812
CREATED:20250210T161652Z
LAST-MODIFIED:20250210T204812Z
UID:10000343-1748822400-1748908799@www.kindergarten-dettenschwang.de
SUMMARY:Kindergarten- und Krippenausflug in den Bergtierpark nach Aying
DESCRIPTION:Ausflug der gesamten Einrichtung in den Bergtierpark nach Aying
URL:https://www.kindergarten-dettenschwang.de/event/kindergarten-und-krippenausflug-in-den-bergtierpark-nach-aying/
LOCATION:Kindergarten Dettenschwang
CATEGORIES:Veranstaltungen und sonstige Aktivitäten
ATTACH;FMTTYPE=image/jpeg:https://www.kindergarten-dettenschwang.de/kg/wp-content/uploads/w_Kal_Bergtierpark.jpg
END:VEVENT
BEGIN:VEVENT
DTSTART;VALUE=DATE:20250606
DTEND;VALUE=DATE:20250607
DTSTAMP:20260421T202812
CREATED:20250210T162712Z
LAST-MODIFIED:20250224T153155Z
UID:10000344-1749168000-1749254399@www.kindergarten-dettenschwang.de
SUMMARY:Piratenfest (bis 12 Uhr)
DESCRIPTION:Wir feieren das Piratenfest bis 12 Uhr. Der Kindergarten schließt an diesem Tag um 12 Uhr! \nDer Waldtag entfällt.
URL:https://www.kindergarten-dettenschwang.de/event/piratenfest/
LOCATION:Kindergarten Dettenschwang
CATEGORIES:Veranstaltungen und sonstige Aktivitäten
END:VEVENT
BEGIN:VEVENT
DTSTART;VALUE=DATE:20250609
DTEND;VALUE=DATE:20250621
DTSTAMP:20260421T202812
CREATED:20240927T223652Z
LAST-MODIFIED:20241011T113711Z
UID:10000289-1749427200-1750463999@www.kindergarten-dettenschwang.de
SUMMARY:Pfingstferien
DESCRIPTION:Während der Pfingstferien vom 09.06.2025 – 20.06.2025 ist unser Kindergarten geschlossen. \n  \n  \n  \nBild erstellt mit DALLE-3\, April 05\, 2024
URL:https://www.kindergarten-dettenschwang.de/event/pfingstferien/
LOCATION:Kindergarten Dettenschwang
CATEGORIES:Geschlossen
ATTACH;FMTTYPE=image/jpeg:https://www.kindergarten-dettenschwang.de/kg/wp-content/uploads/w_Pfingstferien_kal.jpg
END:VEVENT
BEGIN:VEVENT
DTSTART;VALUE=DATE:20250627
DTEND;VALUE=DATE:20250628
DTSTAMP:20260421T202812
CREATED:20241011T111118Z
LAST-MODIFIED:20250224T154019Z
UID:10000328-1750982400-1751068799@www.kindergarten-dettenschwang.de
SUMMARY:Waldtag der Eulen- und Igelgruppe (wöchentlich)
DESCRIPTION:Die Eulen- und die Igelgruppe veranstalten  jeden Freitag ihren Waldtag.
URL:https://www.kindergarten-dettenschwang.de/event/waldtag-der-eulen-und-igelgruppe-woechentlich-freitags/2025-06-27/
LOCATION:Kindergarten Dettenschwang
CATEGORIES:Veranstaltungen und sonstige Aktivitäten
END:VEVENT
END:VCALENDAR