BEGIN:VCALENDAR
VERSION:2.0
PRODID:-//Kindergarten Dettenschwang - ECPv6.15.20//NONSGML v1.0//EN
CALSCALE:GREGORIAN
METHOD:PUBLISH
X-ORIGINAL-URL:https://www.kindergarten-dettenschwang.de
X-WR-CALDESC:Veranstaltungen für Kindergarten Dettenschwang
REFRESH-INTERVAL;VALUE=DURATION:PT1H
X-Robots-Tag:noindex
X-PUBLISHED-TTL:PT1H
BEGIN:VTIMEZONE
TZID:Europe/Berlin
BEGIN:DAYLIGHT
TZOFFSETFROM:+0100
TZOFFSETTO:+0200
TZNAME:CEST
DTSTART:20240331T010000
END:DAYLIGHT
BEGIN:STANDARD
TZOFFSETFROM:+0200
TZOFFSETTO:+0100
TZNAME:CET
DTSTART:20241027T010000
END:STANDARD
BEGIN:DAYLIGHT
TZOFFSETFROM:+0100
TZOFFSETTO:+0200
TZNAME:CEST
DTSTART:20250330T010000
END:DAYLIGHT
BEGIN:STANDARD
TZOFFSETFROM:+0200
TZOFFSETTO:+0100
TZNAME:CET
DTSTART:20251026T010000
END:STANDARD
BEGIN:DAYLIGHT
TZOFFSETFROM:+0100
TZOFFSETTO:+0200
TZNAME:CEST
DTSTART:20260329T010000
END:DAYLIGHT
BEGIN:STANDARD
TZOFFSETFROM:+0200
TZOFFSETTO:+0100
TZNAME:CET
DTSTART:20261025T010000
END:STANDARD
END:VTIMEZONE
BEGIN:VEVENT
DTSTART;VALUE=DATE:20250428
DTEND;VALUE=DATE:20250503
DTSTAMP:20260421T215134
CREATED:20250429T075124Z
LAST-MODIFIED:20250429T135447Z
UID:10000351-1745798400-1746230399@www.kindergarten-dettenschwang.de
SUMMARY:Waldwoche für alle Gruppen
DESCRIPTION:Da der Kindergarten eine neue Küche bekommt\, haben wir spontan diese Woche zu einer Waldwoche  – für alle Kinder auch Krippenkinder – gemacht. \nErste Fotos zur Waldwoche
URL:https://www.kindergarten-dettenschwang.de/event/waldwoche-fuer-alle-gruppen/
LOCATION:Kindergarten Dettenschwang
CATEGORIES:Veranstaltungen und sonstige Aktivitäten
ATTACH;FMTTYPE=image/jpeg:https://www.kindergarten-dettenschwang.de/kg/wp-content/uploads/w_Waldwoche.jpg
END:VEVENT
BEGIN:VEVENT
DTSTART;VALUE=DATE:20250501
DTEND;VALUE=DATE:20250502
DTSTAMP:20260421T215134
CREATED:20250429T075452Z
LAST-MODIFIED:20250429T075516Z
UID:10000352-1746057600-1746143999@www.kindergarten-dettenschwang.de
SUMMARY:Feiertag (geschlossen)
DESCRIPTION:
URL:https://www.kindergarten-dettenschwang.de/event/feiertag/
CATEGORIES:Geschlossen
END:VEVENT
BEGIN:VEVENT
DTSTART;VALUE=DATE:20250502
DTEND;VALUE=DATE:20250503
DTSTAMP:20260421T215134
CREATED:20241011T111118Z
LAST-MODIFIED:20250224T154019Z
UID:10000322-1746144000-1746230399@www.kindergarten-dettenschwang.de
SUMMARY:Waldtag der Eulen- und Igelgruppe (wöchentlich)
DESCRIPTION:Die Eulen- und die Igelgruppe veranstalten  jeden Freitag ihren Waldtag.
URL:https://www.kindergarten-dettenschwang.de/event/waldtag-der-eulen-und-igelgruppe-woechentlich-freitags/2025-05-02/
LOCATION:Kindergarten Dettenschwang
CATEGORIES:Veranstaltungen und sonstige Aktivitäten
END:VEVENT
BEGIN:VEVENT
DTSTART;VALUE=DATE:20250507
DTEND;VALUE=DATE:20250508
DTSTAMP:20260421T215134
CREATED:20250210T161401Z
LAST-MODIFIED:20250210T162317Z
UID:10000342-1746576000-1746662399@www.kindergarten-dettenschwang.de
SUMMARY:Interne Veranstaltung Gemeinde (ganztags geschlossen)
DESCRIPTION:Der Kindergarten ist an diesem Tag ganztags geschlossen. \nDas Personal nimmt am Betriebsausflug der Marktgemeinde Dießen teil.
URL:https://www.kindergarten-dettenschwang.de/event/interne-veranstaltung-gemeinde-ganztags-geschlossen/
LOCATION:Kindergarten Dettenschwang
CATEGORIES:Geschlossen,Interne Veranstaltung
END:VEVENT
BEGIN:VEVENT
DTSTART;VALUE=DATE:20250509
DTEND;VALUE=DATE:20250510
DTSTAMP:20260421T215134
CREATED:20241011T111118Z
LAST-MODIFIED:20250224T154019Z
UID:10000323-1746748800-1746835199@www.kindergarten-dettenschwang.de
SUMMARY:Waldtag der Eulen- und Igelgruppe (wöchentlich)
DESCRIPTION:Die Eulen- und die Igelgruppe veranstalten  jeden Freitag ihren Waldtag.
URL:https://www.kindergarten-dettenschwang.de/event/waldtag-der-eulen-und-igelgruppe-woechentlich-freitags/2025-05-09/
LOCATION:Kindergarten Dettenschwang
CATEGORIES:Veranstaltungen und sonstige Aktivitäten
END:VEVENT
BEGIN:VEVENT
DTSTART;VALUE=DATE:20250516
DTEND;VALUE=DATE:20250517
DTSTAMP:20260421T215134
CREATED:20241011T111118Z
LAST-MODIFIED:20250224T154019Z
UID:10000324-1747353600-1747439999@www.kindergarten-dettenschwang.de
SUMMARY:Waldtag der Eulen- und Igelgruppe (wöchentlich)
DESCRIPTION:Die Eulen- und die Igelgruppe veranstalten  jeden Freitag ihren Waldtag.
URL:https://www.kindergarten-dettenschwang.de/event/waldtag-der-eulen-und-igelgruppe-woechentlich-freitags/2025-05-16/
LOCATION:Kindergarten Dettenschwang
CATEGORIES:Veranstaltungen und sonstige Aktivitäten
END:VEVENT
BEGIN:VEVENT
DTSTART;VALUE=DATE:20250523
DTEND;VALUE=DATE:20250524
DTSTAMP:20260421T215134
CREATED:20241011T111118Z
LAST-MODIFIED:20250224T154019Z
UID:10000325-1747958400-1748044799@www.kindergarten-dettenschwang.de
SUMMARY:Waldtag der Eulen- und Igelgruppe (wöchentlich)
DESCRIPTION:Die Eulen- und die Igelgruppe veranstalten  jeden Freitag ihren Waldtag.
URL:https://www.kindergarten-dettenschwang.de/event/waldtag-der-eulen-und-igelgruppe-woechentlich-freitags/2025-05-23/
LOCATION:Kindergarten Dettenschwang
CATEGORIES:Veranstaltungen und sonstige Aktivitäten
END:VEVENT
BEGIN:VEVENT
DTSTART;VALUE=DATE:20250530
DTEND;VALUE=DATE:20250531
DTSTAMP:20260421T215134
CREATED:20241011T111118Z
LAST-MODIFIED:20250224T154019Z
UID:10000326-1748563200-1748649599@www.kindergarten-dettenschwang.de
SUMMARY:Waldtag der Eulen- und Igelgruppe (wöchentlich)
DESCRIPTION:Die Eulen- und die Igelgruppe veranstalten  jeden Freitag ihren Waldtag.
URL:https://www.kindergarten-dettenschwang.de/event/waldtag-der-eulen-und-igelgruppe-woechentlich-freitags/2025-05-30/
LOCATION:Kindergarten Dettenschwang
CATEGORIES:Veranstaltungen und sonstige Aktivitäten
END:VEVENT
END:VCALENDAR